BEGIN:VCALENDAR
VERSION:2.0
PRODID:-//Stockton Wood Primary School - ECPv6.15.20//NONSGML v1.0//EN
CALSCALE:GREGORIAN
METHOD:PUBLISH
X-WR-CALNAME:Stockton Wood Primary School
X-ORIGINAL-URL:https://stocktonwoodprimary.co.uk
X-WR-CALDESC:Events for Stockton Wood Primary School
REFRESH-INTERVAL;VALUE=DURATION:PT1H
X-Robots-Tag:noindex
X-PUBLISHED-TTL:PT1H
BEGIN:VTIMEZONE
TZID:UTC
BEGIN:STANDARD
TZOFFSETFROM:+0000
TZOFFSETTO:+0000
TZNAME:UTC
DTSTART:20250101T000000
END:STANDARD
END:VTIMEZONE
BEGIN:VEVENT
DTSTART;TZID=UTC:20260303T000000
DTEND;TZID=UTC:20260303T000000
DTSTAMP:20260421T040729
CREATED:20260210T101619Z
LAST-MODIFIED:20260210T101619Z
UID:18526-1772496000-1772496000@stocktonwoodprimary.co.uk
SUMMARY:MHST Coffee Morning - ALL families invited
DESCRIPTION:
URL:https://stocktonwoodprimary.co.uk/event/mhst-coffee-morning-all-families-invited/
END:VEVENT
BEGIN:VEVENT
DTSTART;TZID=UTC:20260311T000000
DTEND;TZID=UTC:20260311T000000
DTSTAMP:20260421T040729
CREATED:20260210T101701Z
LAST-MODIFIED:20260210T101701Z
UID:18528-1773187200-1773187200@stocktonwoodprimary.co.uk
SUMMARY:MHST Sleep Workshop
DESCRIPTION:
URL:https://stocktonwoodprimary.co.uk/event/mhst-sleep-workshop/
END:VEVENT
BEGIN:VEVENT
DTSTART;TZID=UTC:20260312T153000
DTEND;TZID=UTC:20260312T180000
DTSTAMP:20260421T040729
CREATED:20260210T101746Z
LAST-MODIFIED:20260210T101746Z
UID:18530-1773329400-1773338400@stocktonwoodprimary.co.uk
SUMMARY:Reception - Year 5 Parents Evening
DESCRIPTION:
URL:https://stocktonwoodprimary.co.uk/event/reception-year-5-parents-evening-2/
END:VEVENT
BEGIN:VEVENT
DTSTART;TZID=UTC:20260319T000000
DTEND;TZID=UTC:20260319T000000
DTSTAMP:20260421T040729
CREATED:20260210T101827Z
LAST-MODIFIED:20260210T101827Z
UID:18532-1773878400-1773878400@stocktonwoodprimary.co.uk
SUMMARY:Year 4 Stay & Learn Session
DESCRIPTION:
URL:https://stocktonwoodprimary.co.uk/event/year-4-stay-learn-session-3/
END:VEVENT
BEGIN:VEVENT
DTSTART;VALUE=DATE:20260320
DTEND;VALUE=DATE:20260321
DTSTAMP:20260421T040729
CREATED:20260210T101907Z
LAST-MODIFIED:20260210T101907Z
UID:18534-1773964800-1774051199@stocktonwoodprimary.co.uk
SUMMARY:School Fundraising Day
DESCRIPTION:
URL:https://stocktonwoodprimary.co.uk/event/school-fundraising-day/
END:VEVENT
BEGIN:VEVENT
DTSTART;VALUE=DATE:20260323
DTEND;VALUE=DATE:20260324
DTSTAMP:20260421T040729
CREATED:20260210T101940Z
LAST-MODIFIED:20260319T114735Z
UID:18536-1774224000-1774310399@stocktonwoodprimary.co.uk
SUMMARY:Rock Steady Concert
DESCRIPTION:
URL:https://stocktonwoodprimary.co.uk/event/rock-steady-concert-2/
END:VEVENT
BEGIN:VEVENT
DTSTART;VALUE=DATE:20260324
DTEND;VALUE=DATE:20260325
DTSTAMP:20260421T040729
CREATED:20260210T102013Z
LAST-MODIFIED:20260319T114804Z
UID:18538-1774310400-1774396799@stocktonwoodprimary.co.uk
SUMMARY:Years 3 - 5 Cinema Trip
DESCRIPTION:
URL:https://stocktonwoodprimary.co.uk/event/years-3-5-cinema-trip/
END:VEVENT
BEGIN:VEVENT
DTSTART;VALUE=DATE:20260327
DTEND;VALUE=DATE:20260328
DTSTAMP:20260421T040729
CREATED:20260210T102117Z
LAST-MODIFIED:20260210T102117Z
UID:18542-1774569600-1774655999@stocktonwoodprimary.co.uk
SUMMARY:School finishes for Easter holidays
DESCRIPTION:
URL:https://stocktonwoodprimary.co.uk/event/school-finishes-for-easter-holidays-2/
END:VEVENT
BEGIN:VEVENT
DTSTART;VALUE=DATE:20260327
DTEND;VALUE=DATE:20260328
DTSTAMP:20260421T040729
CREATED:20260210T102053Z
LAST-MODIFIED:20260319T114833Z
UID:18540-1774569600-1774655999@stocktonwoodprimary.co.uk
SUMMARY:Stockton Wood's Got Talent Performance
DESCRIPTION:
URL:https://stocktonwoodprimary.co.uk/event/stockton-woods-got-talent-performance/
END:VEVENT
END:VCALENDAR