BEGIN:VCALENDAR
VERSION:2.0
PRODID:-//Stockton Wood Primary School - ECPv6.15.20//NONSGML v1.0//EN
CALSCALE:GREGORIAN
METHOD:PUBLISH
X-WR-CALNAME:Stockton Wood Primary School
X-ORIGINAL-URL:https://stocktonwoodprimary.co.uk
X-WR-CALDESC:Events for Stockton Wood Primary School
REFRESH-INTERVAL;VALUE=DURATION:PT1H
X-Robots-Tag:noindex
X-PUBLISHED-TTL:PT1H
BEGIN:VTIMEZONE
TZID:UTC
BEGIN:STANDARD
TZOFFSETFROM:+0000
TZOFFSETTO:+0000
TZNAME:UTC
DTSTART:20240101T000000
END:STANDARD
END:VTIMEZONE
BEGIN:VEVENT
DTSTART;VALUE=DATE:20250502
DTEND;VALUE=DATE:20250503
DTSTAMP:20260421T211216
CREATED:20250328T120047Z
LAST-MODIFIED:20250328T120047Z
UID:9796-1746144000-1746230399@stocktonwoodprimary.co.uk
SUMMARY:Own clothes - donate a teddy bear for the Summer Fair
DESCRIPTION:
URL:https://stocktonwoodprimary.co.uk/event/own-clothes-donate-a-teddy-bear-for-the-summer-fair/
END:VEVENT
BEGIN:VEVENT
DTSTART;VALUE=DATE:20250509
DTEND;VALUE=DATE:20250510
DTSTAMP:20260421T211216
CREATED:20250328T120142Z
LAST-MODIFIED:20250328T120142Z
UID:9798-1746748800-1746835199@stocktonwoodprimary.co.uk
SUMMARY:Own clothes - donate a bottle for the Summer Fair
DESCRIPTION:
URL:https://stocktonwoodprimary.co.uk/event/own-clothes-donate-a-bottle-for-the-summer-fair/
END:VEVENT
BEGIN:VEVENT
DTSTART;TZID=UTC:20250512T000000
DTEND;TZID=UTC:20250515T000000
DTSTAMP:20260421T211216
CREATED:20250307T101247Z
LAST-MODIFIED:20250307T101247Z
UID:8931-1747008000-1747267200@stocktonwoodprimary.co.uk
SUMMARY:Year 6 SATS Week
DESCRIPTION:
URL:https://stocktonwoodprimary.co.uk/event/year-6-sats-week/
END:VEVENT
BEGIN:VEVENT
DTSTART;VALUE=DATE:20250516
DTEND;VALUE=DATE:20250517
DTSTAMP:20260421T211216
CREATED:20250328T130705Z
LAST-MODIFIED:20250328T130705Z
UID:9800-1747353600-1747439999@stocktonwoodprimary.co.uk
SUMMARY:Own clothes - donate cakes for the Summer Fair
DESCRIPTION:
URL:https://stocktonwoodprimary.co.uk/event/own-clothes-donate-cakes-for-the-summer-fair/
END:VEVENT
BEGIN:VEVENT
DTSTART;VALUE=DATE:20250517
DTEND;VALUE=DATE:20250518
DTSTAMP:20260421T211216
CREATED:20250328T131003Z
LAST-MODIFIED:20250328T131003Z
UID:9802-1747440000-1747526399@stocktonwoodprimary.co.uk
SUMMARY:Summer Fair
DESCRIPTION:
URL:https://stocktonwoodprimary.co.uk/event/summer-fair-3/
END:VEVENT
BEGIN:VEVENT
DTSTART;TZID=UTC:20250519T090000
DTEND;TZID=UTC:20250519T090000
DTSTAMP:20260421T211216
CREATED:20250509T113311Z
LAST-MODIFIED:20250509T113311Z
UID:10517-1747645200-1747645200@stocktonwoodprimary.co.uk
SUMMARY:Nursery Stay & Learn Sports Day
DESCRIPTION:
URL:https://stocktonwoodprimary.co.uk/event/nursery-stay-learn-sports-day/
END:VEVENT
BEGIN:VEVENT
DTSTART;TZID=UTC:20250519T144500
DTEND;TZID=UTC:20250519T144500
DTSTAMP:20260421T211216
CREATED:20250509T113419Z
LAST-MODIFIED:20250509T113419Z
UID:10519-1747665900-1747665900@stocktonwoodprimary.co.uk
SUMMARY:Reception Stay & Learn Sports Day
DESCRIPTION:
URL:https://stocktonwoodprimary.co.uk/event/reception-stay-learn-sports-day/
END:VEVENT
BEGIN:VEVENT
DTSTART;TZID=UTC:20250520T090000
DTEND;TZID=UTC:20250520T090000
DTSTAMP:20260421T211216
CREATED:20250509T113520Z
LAST-MODIFIED:20250509T113520Z
UID:10521-1747731600-1747731600@stocktonwoodprimary.co.uk
SUMMARY:Year 4 Stay & Learn Sports Day
DESCRIPTION:
URL:https://stocktonwoodprimary.co.uk/event/year-4-stay-learn-sports-day/
END:VEVENT
BEGIN:VEVENT
DTSTART;TZID=UTC:20250520T144500
DTEND;TZID=UTC:20250520T144500
DTSTAMP:20260421T211216
CREATED:20250509T113602Z
LAST-MODIFIED:20250509T113602Z
UID:10523-1747752300-1747752300@stocktonwoodprimary.co.uk
SUMMARY:Year 1 Stay & Learn Sports Day
DESCRIPTION:
URL:https://stocktonwoodprimary.co.uk/event/year-1-stay-learn-sports-day/
END:VEVENT
BEGIN:VEVENT
DTSTART;TZID=UTC:20250521T090000
DTEND;TZID=UTC:20250521T090000
DTSTAMP:20260421T211216
CREATED:20250509T113734Z
LAST-MODIFIED:20250509T113734Z
UID:10525-1747818000-1747818000@stocktonwoodprimary.co.uk
SUMMARY:Year 6 Stay & Learn Sports Day
DESCRIPTION:
URL:https://stocktonwoodprimary.co.uk/event/year-6-stay-learn-sports-day/
END:VEVENT
BEGIN:VEVENT
DTSTART;TZID=UTC:20250521T144500
DTEND;TZID=UTC:20250521T144500
DTSTAMP:20260421T211216
CREATED:20250509T113831Z
LAST-MODIFIED:20250509T113831Z
UID:10527-1747838700-1747838700@stocktonwoodprimary.co.uk
SUMMARY:Year 2 Stay & Learn Sports Day
DESCRIPTION:
URL:https://stocktonwoodprimary.co.uk/event/year-2-stay-learn-sports-day/
END:VEVENT
BEGIN:VEVENT
DTSTART;TZID=UTC:20250522T090000
DTEND;TZID=UTC:20250522T090000
DTSTAMP:20260421T211216
CREATED:20250509T113928Z
LAST-MODIFIED:20250509T113928Z
UID:10529-1747904400-1747904400@stocktonwoodprimary.co.uk
SUMMARY:Year 5 Stay & Learn Sports Day
DESCRIPTION:
URL:https://stocktonwoodprimary.co.uk/event/year-5-stay-learn-sports-day/
END:VEVENT
BEGIN:VEVENT
DTSTART;TZID=UTC:20250522T144500
DTEND;TZID=UTC:20250522T144500
DTSTAMP:20260421T211216
CREATED:20250509T114020Z
LAST-MODIFIED:20250509T114020Z
UID:10531-1747925100-1747925100@stocktonwoodprimary.co.uk
SUMMARY:Year 3 Stay & Learn Sports Day
DESCRIPTION:
URL:https://stocktonwoodprimary.co.uk/event/year-3-stay-learn-sports-day/
END:VEVENT
END:VCALENDAR